BEGIN:VCALENDAR
VERSION:2.0
PRODID:-//Progress Education - ECPv6.15.20//NONSGML v1.0//EN
CALSCALE:GREGORIAN
METHOD:PUBLISH
X-WR-CALNAME:Progress Education
X-ORIGINAL-URL:https://cursussen.progress-educations.nl
X-WR-CALDESC:Evenementen voor Progress Education
REFRESH-INTERVAL;VALUE=DURATION:PT1H
X-Robots-Tag:noindex
X-PUBLISHED-TTL:PT1H
BEGIN:VTIMEZONE
TZID:Europe/Amsterdam
BEGIN:DAYLIGHT
TZOFFSETFROM:+0100
TZOFFSETTO:+0200
TZNAME:CEST
DTSTART:20250330T010000
END:DAYLIGHT
BEGIN:STANDARD
TZOFFSETFROM:+0200
TZOFFSETTO:+0100
TZNAME:CET
DTSTART:20251026T010000
END:STANDARD
BEGIN:DAYLIGHT
TZOFFSETFROM:+0100
TZOFFSETTO:+0200
TZNAME:CEST
DTSTART:20260329T010000
END:DAYLIGHT
BEGIN:STANDARD
TZOFFSETFROM:+0200
TZOFFSETTO:+0100
TZNAME:CET
DTSTART:20261025T010000
END:STANDARD
BEGIN:DAYLIGHT
TZOFFSETFROM:+0100
TZOFFSETTO:+0200
TZNAME:CEST
DTSTART:20270328T010000
END:DAYLIGHT
BEGIN:STANDARD
TZOFFSETFROM:+0200
TZOFFSETTO:+0100
TZNAME:CET
DTSTART:20271031T010000
END:STANDARD
END:VTIMEZONE
BEGIN:VEVENT
DTSTART;TZID=Europe/Amsterdam:20260625T090000
DTEND;TZID=Europe/Amsterdam:20260625T123000
DTSTAMP:20260419T174217
CREATED:20260409T123756Z
LAST-MODIFIED:20260409T123756Z
UID:1866-1782378000-1782390600@cursussen.progress-educations.nl
SUMMARY:Neurodynamische benadering van schoudergordelklachten
DESCRIPTION:De kosten bedragen € 179\,- \nMeer informatie: https://cursussen.progress-educations.nl/masterclass/neurodynamische-benadering-van-schoudergordelklachten/
URL:https://cursussen.progress-educations.nl/event/neurodynamische-benadering-van-schoudergordelklachten/
LOCATION:Eerste verdieping Basicfit\, tegenover sporthal de Vijfkamp\, Vijfkamplaan 8\, Eindhoven\, 5624 EB\, Netherlands
ATTACH;FMTTYPE=image/jpeg:https://cursussen.progress-educations.nl/wp-content/uploads/2026/04/MSP_8816-Madeleine-Sars-scaled.jpg
END:VEVENT
END:VCALENDAR