BEGIN:VCALENDAR
VERSION:2.0
PRODID:-//Progress Education - ECPv6.15.20//NONSGML v1.0//EN
CALSCALE:GREGORIAN
METHOD:PUBLISH
X-WR-CALNAME:Progress Education
X-ORIGINAL-URL:https://cursussen.progress-educations.nl
X-WR-CALDESC:Evenementen voor Progress Education
REFRESH-INTERVAL;VALUE=DURATION:PT1H
X-Robots-Tag:noindex
X-PUBLISHED-TTL:PT1H
BEGIN:VTIMEZONE
TZID:Europe/Amsterdam
BEGIN:DAYLIGHT
TZOFFSETFROM:+0100
TZOFFSETTO:+0200
TZNAME:CEST
DTSTART:20250330T010000
END:DAYLIGHT
BEGIN:STANDARD
TZOFFSETFROM:+0200
TZOFFSETTO:+0100
TZNAME:CET
DTSTART:20251026T010000
END:STANDARD
BEGIN:DAYLIGHT
TZOFFSETFROM:+0100
TZOFFSETTO:+0200
TZNAME:CEST
DTSTART:20260329T010000
END:DAYLIGHT
BEGIN:STANDARD
TZOFFSETFROM:+0200
TZOFFSETTO:+0100
TZNAME:CET
DTSTART:20261025T010000
END:STANDARD
BEGIN:DAYLIGHT
TZOFFSETFROM:+0100
TZOFFSETTO:+0200
TZNAME:CEST
DTSTART:20270328T010000
END:DAYLIGHT
BEGIN:STANDARD
TZOFFSETFROM:+0200
TZOFFSETTO:+0100
TZNAME:CET
DTSTART:20271031T010000
END:STANDARD
END:VTIMEZONE
BEGIN:VEVENT
DTSTART;TZID=Europe/Amsterdam:20261007T093000
DTEND;TZID=Europe/Amsterdam:20261007T160000
DTSTAMP:20260419T174402
CREATED:20250127T070748Z
LAST-MODIFIED:20260402T123202Z
UID:953-1791365400-1791388800@cursussen.progress-educations.nl
SUMMARY:Schouderrevalidatie
DESCRIPTION:In 2 dagen leer je effectieve behandelplannen opstellen\, valkuilen vermijden en jouw schouderrevalidatie naar een hoger niveau tillen. \n07 oktober 2026 09:30 uur – 16:00 uur\nEN\n28 oktober 2026 14.00 uur – 20:00 uur \nDe kosten bedragen € 499\,- \nMeer informatie: https://cursussen.progress-educations.nl/live-cursus/schouderrevalidatie/
URL:https://cursussen.progress-educations.nl/event/schouderrevalidatie/
LOCATION:Eerste verdieping Basicfit\, tegenover sporthal de Vijfkamp\, Vijfkamplaan 8\, Eindhoven\, 5624 EB\, Netherlands
ATTACH;FMTTYPE=image/jpeg:https://cursussen.progress-educations.nl/wp-content/uploads/2024/12/Schouderrevalidatie.jpg
END:VEVENT
END:VCALENDAR