BEGIN:VCALENDAR
VERSION:2.0
PRODID:-//Progress Education - ECPv6.15.20//NONSGML v1.0//EN
CALSCALE:GREGORIAN
METHOD:PUBLISH
X-ORIGINAL-URL:https://cursussen.progress-educations.nl
X-WR-CALDESC:Evenementen voor Progress Education
REFRESH-INTERVAL;VALUE=DURATION:PT1H
X-Robots-Tag:noindex
X-PUBLISHED-TTL:PT1H
BEGIN:VTIMEZONE
TZID:Europe/Amsterdam
BEGIN:DAYLIGHT
TZOFFSETFROM:+0100
TZOFFSETTO:+0200
TZNAME:CEST
DTSTART:20250330T010000
END:DAYLIGHT
BEGIN:STANDARD
TZOFFSETFROM:+0200
TZOFFSETTO:+0100
TZNAME:CET
DTSTART:20251026T010000
END:STANDARD
BEGIN:DAYLIGHT
TZOFFSETFROM:+0100
TZOFFSETTO:+0200
TZNAME:CEST
DTSTART:20260329T010000
END:DAYLIGHT
BEGIN:STANDARD
TZOFFSETFROM:+0200
TZOFFSETTO:+0100
TZNAME:CET
DTSTART:20261025T010000
END:STANDARD
BEGIN:DAYLIGHT
TZOFFSETFROM:+0100
TZOFFSETTO:+0200
TZNAME:CEST
DTSTART:20270328T010000
END:DAYLIGHT
BEGIN:STANDARD
TZOFFSETFROM:+0200
TZOFFSETTO:+0100
TZNAME:CET
DTSTART:20271031T010000
END:STANDARD
END:VTIMEZONE
BEGIN:VEVENT
DTSTART;TZID=Europe/Amsterdam:20260420T090000
DTEND;TZID=Europe/Amsterdam:20260420T170000
DTSTAMP:20260419T174110
CREATED:20251127T135405Z
LAST-MODIFIED:20251127T135405Z
UID:10000023-1776675600-1776704400@cursussen.progress-educations.nl
SUMMARY:Motivational interviewing
DESCRIPTION:In 3 dagen leer je hoe je gedragsverandering aanmoedigt en versterkt. \n20\, 21 april 2026 09:00 uur – 17:00 uur\nEN\n18 mei 2026 09.00uur – 17:00 uur \nDe kosten bedragen € 899\,- \nMeer informatie: https://cursussen.progress-educations.nl/cursus/cursus-motivational-interviewing/ \n 
URL:https://cursussen.progress-educations.nl/event/motivational-interviewing/
LOCATION:Eerste verdieping Basicfit\, tegenover sporthal de Vijfkamp\, Vijfkamplaan 8\, Eindhoven\, 5624 EB\, Netherlands
ATTACH;FMTTYPE=image/jpeg:https://cursussen.progress-educations.nl/wp-content/uploads/2024/12/Motivational-interviewing.jpg
END:VEVENT
END:VCALENDAR